BEGIN:VCALENDAR
VERSION:2.0
PRODID:-//ChamberMaster//Event Calendar 2.0//EN
METHOD:PUBLISH
X-PUBLISHED-TTL:P1H
REFRESH-INTERVAL:P1H
CALSCALE:GREGORIAN
BEGIN:VTIMEZONE
TZID:America/Los_Angeles
BEGIN:DAYLIGHT
RRULE:FREQ=YEARLY;BYMONTH=3;BYDAY=2SU
DTSTART:20070101T000000
TZOFFSETFROM:-0800
TZOFFSETTO:-0700
TZNAME:Pacific Daylight Time
END:DAYLIGHT
BEGIN:STANDARD
RRULE:FREQ=YEARLY;BYMONTH=11;BYDAY=1SU
DTSTART:20070101T000000
TZOFFSETFROM:-0700
TZOFFSETTO:-0800
TZNAME:Pacific Standard Time
END:STANDARD
END:VTIMEZONE
BEGIN:VEVENT
DTSTART;TZID=America/Los_Angeles:20260425T160000
DTEND;TZID=America/Los_Angeles:20260425T190000
X-MICROSOFT-CDO-ALLDAYEVENT:FALSE
SUMMARY:Grand Opening - Temecula Valley Fine Art Museum & Gallery
DESCRIPTION:Join us for the Grand Opening of the Temecula Valley Fine Art Museum & Gallery on April 25th from 4:00 PM to 7:00 PM. Operated by CYAP\, a 501(c)(3) nonprofit\, this new community arts space features curated fine art exhibitions and a welcoming cultural experience.
X-ALT-DESC;FMTTYPE=text/html:<!DOCTYPE html><html><head><title></title></head><body aria-disabled="false"><p>Join us for the Grand Opening of the Temecula Valley Fine Art Museum &amp\; Gallery on April 25th from 4:00 PM to 7:00 PM. Operated by CYAP\, a 501(c)(3) nonprofit\, this new community arts space features curated fine art exhibitions and a welcoming cultural experience.</p></body></html>
LOCATION:27464 Commerce Center Drive Suite C/D Temecula CA 92590
UID:e.1427.1448376
SEQUENCE:3
DTSTAMP:20260423T190135Z
URL:https://members.temecula.org/eventcalendar/Details/grand-opening-temecula-valley-fine-art-museum-gallery-1715376?sourceTypeId=Hub
END:VEVENT
END:VCALENDAR
