BEGIN:VCALENDAR
VERSION:2.0
PRODID:-//ChamberMaster//Event Calendar 2.0//EN
METHOD:PUBLISH
X-PUBLISHED-TTL:P1H
REFRESH-INTERVAL:P1H
CALSCALE:GREGORIAN
BEGIN:VTIMEZONE
TZID:America/Los_Angeles
BEGIN:DAYLIGHT
RRULE:FREQ=YEARLY;BYMONTH=3;BYDAY=2SU
DTSTART:20070101T000000
TZOFFSETFROM:-0800
TZOFFSETTO:-0700
TZNAME:Pacific Daylight Time
END:DAYLIGHT
BEGIN:STANDARD
RRULE:FREQ=YEARLY;BYMONTH=11;BYDAY=1SU
DTSTART:20070101T000000
TZOFFSETFROM:-0700
TZOFFSETTO:-0800
TZNAME:Pacific Standard Time
END:STANDARD
END:VTIMEZONE
BEGIN:VEVENT
DTSTART;TZID=America/Los_Angeles:20260429T170000
DTEND;TZID=America/Los_Angeles:20260429T200000
X-MICROSOFT-CDO-ALLDAYEVENT:FALSE
SUMMARY:Riverside County Innovation Month Fast Pitch Finale
DESCRIPTION:Top startups from regional pitch competitions take the stage to compete for $20K at the Riverside County Innovation Month finale. Celebrate innovation. Experience what's next. April is Riverside County Innovation Month\, a showcase of innovative companies\, bold ideas\, and entrepreneurial talent from across the region. Join us for an exciting evening that brings together visionary thinkers\, groundbreaking startups\, and the spirit of entrepreneurship. This high-energy finale highlights standout companies emerging from regional Fast Pitch Competitions\, showcasing the best in innovation and entrepreneurship. Guests can enjoy hors d'oeuvres and a no-host bar during the cocktail hour before the evening program begins. Then experience the excitement as entrepreneurs take the stage to pitch their ideas live for a chance to win $20\,000 in cash prizes and the opportunity to compete at the Startup World Cup for a $1\,000\,000 equity investment. It's an evening of bold ideas\, meaningful connections\, and the future of startups all in one place. Whether you're passionate about innovation\, entrepreneurship\, or simply love discovering what's next\, this is an event you won't want to miss.Agenda5:00 PM - 6:00 PM: Cocktail Hour & Open Networking6:15 PM - 8:00 PM: Pitches BeginREGISTER TO ATTEND
X-ALT-DESC;FMTTYPE=text/html:<!DOCTYPE html><html><head><title></title></head><body aria-disabled="false"><p>Top startups from regional pitch competitions take the stage to compete for $20K at the <span style="color: rgb(243\, 121\, 52)\;"><a fr-original-style="" href="https://www.rivcoinnovation.org/innovation-month" rel="noopener noreferrer" style="user-select: auto\; color: inherit\;" target="_blank"><strong fr-original-style="" style="font-weight: 700\;"><u>Riverside County Innovation Month</u></strong></a></span> finale. Celebrate innovation. Experience what&rsquo\;s next. April is Riverside County Innovation Month\, a showcase of innovative companies\, bold ideas\, and entrepreneurial talent from across the region.&nbsp\;</p><p>Join us for an exciting evening that brings together visionary thinkers\, groundbreaking startups\, and the spirit of entrepreneurship. This high-energy finale highlights standout companies emerging from regional Fast Pitch Competitions\, showcasing the best in innovation and entrepreneurship. Guests can enjoy hors d&rsquo\;oeuvres and a no-host bar during the cocktail hour before the evening program begins. Then experience the excitement as entrepreneurs take the stage to pitch their ideas live for a chance to win $20\,000 in cash prizes and the opportunity to compete at the <span style="color: rgb(243\, 121\, 52)\;"><a fr-original-style="" href="https://www.startupworldcup.io/grand-finale" rel="noopener noreferrer" style="user-select: auto\; color: inherit\;" target="_blank"><strong fr-original-style="" style="font-weight: 700\;"><u>Startup World Cup</u></strong></a></span> for a $1\,000\,000 equity investment.&nbsp\;</p><p>It&rsquo\;s an evening of bold ideas\, meaningful connections\, and the future of startups&mdash\;all in one place. Whether you&rsquo\;re passionate about innovation\, entrepreneurship\, or simply love discovering what&rsquo\;s next\, this is an event you won&rsquo\;t want to miss.</p><p><strong fr-original-style="" style="font-weight: 700\;">Agenda</strong></p><ul fr-original-style="" style="list-style-position: inside\;"><li>5:00 PM - 6:00 PM: Cocktail Hour &amp\; Open Networking</li><li>6:15 PM - 8:00 PM: Pitches Begin</li></ul><p><span style="color: rgb(243\, 121\, 52)\; font-family: Impact\, Charcoal\, sans-serif\; font-size: 30px\;"><a fr-original-style="" href="https://www.eventbrite.com/e/riverside-county-innovation-month-fast-pitch-finale-2026-tickets-1981593951853?aff=oddtdtcreator" rel="noopener noreferrer" style="user-select: auto\; color: inherit\;" target="_blank"><strong fr-original-style="" style="font-weight: 700\;"><u>REGISTER TO ATTEND</u></strong></a></span></p></body></html>
LOCATION:3637 5th St Riverside CA 92501
UID:e.1427.1448372
SEQUENCE:3
DTSTAMP:20260423T190101Z
URL:https://members.temecula.org/eventcalendar/Details/riverside-county-innovation-month-fast-pitch-finale-1715372?sourceTypeId=Hub
END:VEVENT
END:VCALENDAR
